Workbook

Sheet DMA8.1-8.2  
A1: काठमाण्डौ उपत्यका खानेपानी लिमिटेड
A2: ललितपुर शाखा कार्यालय
A3: मेलम्चीको नया लाईनबाट वितरण हुने पानीको तालिका
A4: २०८३ कार्तिक महिना
A6: DMA | B6: पानी वितरण हुने स्थान | C6: समय | D6: गते | E6: सम्पर्क व्यक्ति
A7: 8.1 | B7: भानिमंडल, शान्ति मार्ग, चिडियाखाना वरपर, एकान्तकुना मार्ग, सरस्वति मन्दिर, बखुन्डोल ओरालो, बखुन्दोल गणेशमार्ग, कामदेव स्थान, हनुमानथान, Nightingale School, लिलाघर, कुपण्डोल Big Mart, अमर्सिस स्कुल, ढोकाडोल, तीन खम्बा, WHO office | C7: बेलुका ६ बजे देखि बिहान ६ बजे सम्म | D7: 1,5,9,13,17,21,25,29 | E7: चा. चा. राम ९८४१६६१८३६
B8: गुसिन्गाल गल्लि, पंचाकुमारी मन्दिर पुल, संकटा मार्ग, | C8: बिहान ७ बजे देखि १० बजे सम्म | D8: 2,6,10,14,18,22,26,30
B9: बुद्ध एयर लाइन, सुमेरु हस्पिटल लाइन, वाग्देल मार्ग, बखुन्डोल मार्ग, टेंगी मार्ग, जाउलाखेल एरिया, दमकल चोक, शान्ति बिहार मार्ग | C9: बिहान ९ बजे देखि दिउसो १२ बजे सम्म | E9: ई. लोकेश कुमार ठाकुर
B10: राम मन्दिर, दराज वरिपरी क्षेत्र, राजतिर्थ मार्ग | C10: दिउसो१२:३० बजे देखि दिउसो २:३० बजे सम्म | E10: 9851431593
B11: कवाडी वरिपरी क्षेत्र, डल्ले रेस्टुरेन्ट क्षेत्र | C11: बिहान १० बजे देखि दिउसो १ बजे सम्म | E11: ओ.सी. धनन्जय कुमार हाथी 9840572259
B12: पुलचोक वरपर क्षेत्र | C12: दिउसो १:३० बजे देखि बेलुका ६:०० बजे सम्म
B13: सानेपा खरिबोट, अजिमा मन्दिर, कन्तुहिटिमार्ग | C13: बिहान ६:३० बजे देखि ९: बजे सम्म
B14: झम्सिखेल, अरुण थापा मार्ग, सुमित होटेल, चौधरी ग्रुप, किरण भवन मार्ग, ज्ञानोदय पुस्तकालय, टिका स्कुल, हास्पोता गणेश मार्ग, देवल मार्ग, सम्पदा स्कुल | C14: दिउसो २:३० बजे देखि बेलुका ५:३० बजे सम्म
B15: पंचकुमारी मन्दिर | C15: बिहान ९:३० बजे देखि दिउसो १२:३० बजे सम्म
B16: कान्तिपुर F.M. माथि, हेरिटेज पार्टीप्यालेस, वडा न ३ वरपर | C16: बेलुका ६:०० बजे देखि ८:०० बजे सम्म
A17: 8.2 | B17: बिजयबस्ति, साँचल मार्ग, बागमती कोरिडोर, त्रिवेणी मार्ग, सिगाली मार्ग, यला मार्ग, कालोपुल, राजतिर्थ गल्लि, रेडियंट स्कुल, सगरमाथा कलेज, नया बाटो, बारुधखाना मार्ग, ठाडो ढुंगा, निलभावन ढुंगेधारा, धोबिघट, धोबिघट मार्ग, मनकामना मार्ग, दमकल चक्रपथ मार्ग, नया कोलोनी मार्ग पश्चिम, मेगा हस्पिटल एरिया, शान्तिकुना मार्ग, (आलोपालो मिलाएर ) | C17: बेलुका ६ बजे देखि बिहान ६ बजे सम्म | D17: 1,5,9,13,17,21,25,29 | E17: चा.चा.दीपक मगर ९८०८७६२५५०
B18: कन्तुहिटि मार्ग, सत्संग मार्ग, यु टर्न | C18: बिहान ६ बजे देखि १० बजे सम्म | D18: 2,6,10,14,18,22,26,30 | E18: ई. लोकेश कुमार ठाकुर( 9851431593
B19: कालिका मन्दिर मार्ग, मनमोहन प्रतिष्ठान मार्ग | C19: बिहान १० बजे देखि दिउसो २ बजे सम्म | E19: ओ.सी. धनन्जय कुमार हाथी 9840572259
B20: कालिका मन्दिर मार्ग, एभेरेस्ट कलेज | C20: दिउसो २ बजे देखि बेलुका ६ बजे सम्म
A21: द्रष्टव्य:
A22: 1 | B22: मेलम्चीबाट आउने पानीको मात्रामा कमी भएमा सोहीअनुसार माथि दिएको समय हेरफेर हुन सक्नेछ ।
A23: 2 | B23: वर्षाका कारण पानीको आपूर्ति बन्द भएमा पानीको वितरण हुने छैन ।
A24: 3 | B24: आफ्नो स्थान उल्लेख नभएकोमा नजिक स्थानलाई आधार मान्न हुन अनुरोध गरिन्छ ।

Sheet DMA 5 and 6
A1: काठमाण्डौ उपत्यका खानेपानी लिमिटेड
A2: ललितपुर शाखा कार्यालय
A3: मेलम्चीको नया लाईनबाट वितरण हुने पानीको तालिका
A4: २०८३ कार्तिक महिना
A6: DMA | B6: पानी वितरण हुने स्थान | C6: समय | D6: गते | E6: सम्पर्क व्यक्ति | F6: सम्पर्क नम्बर
A7: 5.1 | B7: ग्वार्को देखि बालकुमारी, त्यागल, सिन्पा मार्ग, सरस्वती मार्ग, कसुम वरपर, गुइटा, क्वार्को, च्यासल मार्ग, चपट टोल (आलोपालो मिलाएर) | C7: दिउसो ४ बजे देखि भोलिपल्ट बिहान ५ बजे सम्म | D7: २, ६, १०, १४, १८, २२, २६, ३० | E7: इ. राजेन्द्र देशार ओ.सी रोशन शर्मा | F7: ९८५१११८५२६ ९८६४४३४९०३
A8: 5.2 | B8: नागबहाल,छायबहाल,छा बहाल,गाबहाल,पाटन ढोका,पूल्चोक,चाकुपट,शंखमूल,मणि मार्ग,ज्वागल,श्रीदरवार टोल (आलोपालो मिलाएर) | C8: दिउसो २ बजे देखि भोलिपल्ट बिहान ४ बजे सम्म | D8: असोज ३१, ४, ८, १२, १६, २०, २४, २८ | E8: इ. राजेन्द्र देशार ओ.सी रोशन शर्मा | F8: ९८५१११८५२६ ९८६४४३४९०३ | G8: ३,७,११,१५,१९,२३,२७
A9: 6.1 | B9: सातदोबाटो, रिन्ङरोड भित्र, माटीमार्ग, नरविनायक मार्ग, ताल्छिखेल–,महालक्ष्मी मार्ग, लखनखेल अशोक स्तुपा एरिया, सिंचाहिटी, दिपावली मार्ग, थापा गल्ली, ज्याठा मार्ग, कूमा गल्ली, कनिवहाल (आलोपालो मिलाएर) | C9: बिहान ४ बजे देखि बेलुका ८ बजे सम्म | D9: १, ५, ९, १३, १७, २१, २५, २९ | E9: इ. राजेन्द्र देशार ओ.सी रोशन शर्मा | F9: ९८५१११८५२६ ९८६४४३४९०३ | G9: १,५,९,१३,१७,२१,२५,२९
B10: ओकुवाहाल,सुमन्गल गल्ली, सुन्धारा, गुजीबहाल
A11: 6.2 | B11: जावलाखेल,पुल्चोक, मछिन्द्र मार्ग,त्रिपद्म गल्ली | C11: बेलुका ८ बजे देखि राति ११ बजे सम्म | D11: १, ५, ९, १३, १७, २१, २५, ३० | E11: इ. राजेन्द्र देशार ओ.सी रोशन शर्मा | F11: ९८५१११८५२६ ९८६४४३४९०३
B12: थसीखेल मार्ग, दक्षिणकाली मार्ग, कुमारीमाटी, दामोदर मार्ग, , मानभवन पाटन हस्पिटल, सि.डि.ओ. कार्यालय वरिपरी,नःटोल, पूर्णचण्डी मार्ग,जावलाखेल,(आलोपालो मिलाएर) | C12: राति ११ बजे देखि भोलिपल्ट दिउसो ४ बजे सम्म | G12: ४,८,१२,१६,२०,२४,२८
A13: द्रष्टव्य:
A14: 1 | B14: मेलम्चीबाट आउने पानीको मात्रामा कमी भएमा सोहीअनुसार माथि दिएको समय हेरफेर हुन सक्नेछ ।
A15: 2 | B15: वर्षाका कारण पानीको आपूर्ति बन्द भएमा पानीको वितरण हुने छैन ।
A16: 3 | B16: आफ्नो स्थान उल्लेख नभएकोमा नजिक स्थानलाई आधार मान्न हुन अनुरोध गरिन्छ ।
A18: DMA | B18: पानी वितरण हुने स्थान | C18: समय | D18: गते | E18: सम्पर्क व्यक्ति | F18: सम्पर्क नम्बर
A19: 8.1 | B19: भानिमंडल, शान्ति मार्ग, चिडियाखाना वरपर, एकान्तकुना मार्ग, सरस्वति मन्दिर, बखुन्डोल ओरालो, बखुन्दोल गणेशमार्ग, कामदेव स्थान, हनुमानथान, Nightingale School, लिलाघर, कुपण्डोल Big Mart, अमर्सिस स्कुल | C19: बेलुका ६ बजे देखि बिहान ६ बजे सम्म | E19: राजु देवकोटा पवन सचिन | F19: 9849186565 9851019939
B20: ढोकाडोल | C20: बेलुका ७ बजे देखि बिहान ६ बजे सम्म
B21: गुसिन्गाल गल्लि, पंचाकुमारी मन्दिर पुल, संकटा मार्ग, | C21: बिहान ७ बजे देखि १० बजे सम्म
B22: बुद्ध एयर लाइन, सुमेरु हस्पिटल लाइन, वाग्देल मार्ग, बखुन्डोल मार्ग, टेंगी मार्ग, जाउलाखेल एरिया, दमकल चोक, शान्ति बिहार मार्ग, राम मन्दिर, दराज वरिपरी क्षेत्र, राजतिर्थ मार्ग | C22: बिहान १० बजे देखि दिउसो २ बजे सम्म
B23: कवाडी वरिपरी क्षेत्र, डल्ले रेस्टुरेन्ट क्षेत्र | C23: दिउसो ११ बजे देखि २ बजे सम्म
B24: पुलचोक वरपर क्षेत्र | C24: दिउसो १२ बजे देखि बेलुका ४ बजे सम्म
B25: सानेपा खरिबोट, अजिमा मन्दिर, कन्तुहिटिमार्ग ,पंचकुमारी मन्दिर | C25: बिहान ७ बजे देखि बिहान १० बजे सम्म
B26: झम्सिखेल, अरुण थापा मार्ग, सुमित होटेल, चौधरी ग्रुप, हेरिटेज पार्टी प्यालेस, किरण भवन मार्ग, ज्ञानोदय पुस्तकालय, टिका स्कुल, हास्पोता गणेश मार्ग, देवल मार्ग, सम्पदा स्कुल, वडा नं ३ वरपर | C26: दिउसो २ बजे देखि बेलुका ६ बजे सम्म
B27: कान्तिपूर एफ.एम एरिया | C27: बेलुका ६ बजे देखि ८ बजे सम्म
A28: 8.2 | B28: बिजयबस्ति, साँचल मार्ग, बागमती कोरिडोर, त्रिवेणी मार्ग, सिगाली मार्ग, यला मार्ग, कालोपुल, राजतिर्थ गल्लि, रेडियंट स्कुल, सगरमाथा कलेज, नया बाटो, बारुधखाना मार्ग, ठाडो ढुंगा, निलभावन ढुंगेधारा, धोबिघट, धोबिघट मार्ग, मनकामना मार्ग, दमकल चक्रपथ मार्ग, नया कोलोनी मार्ग पश्चिम, मेगा हस्पिटल एरिया, शान्तिकुना मार्ग, (आलोपालो मिलाएर ) | C28: बेलुका ६ बजे देखि बिहान ६ बजे सम्म | E28: चा.चा.दीपक मगर ओ.सी. धनन्जय कुमार हाथी स.प्रा.अ. निवास गुरागाई ई. सुरज खनाल | F28: ९८०८७६२५५० ९८४०५७२२५९ ९८५२०५४२४४ ९७६७२३७६३८
B29: कन्तुहिटि मार्ग, सत्संग मार्ग, यु टर्न | C29: बिहान ६ बजे देखि १० बजे सम्म
B30: कालिका मन्दिर मार्ग, मनमोहन प्रतिष्ठान मार्ग | C30: बिहान १० बजे देखि दिउसो २ बजे सम्म
B31: कालिका मन्दिर मार्ग, एभेरेस्ट कलेज | C31: दिउसो २ बजे देखि बेलुका ६ बजे सम्म
A32: द्रष्टव्य: | B32: मेलम्चीबाट आउने पानीको मात्रामा कमी भएमा सोहीअनुसार माथि दिएको समय हेरफेर हुन सक्नेछ ।
A33: 1 | B33: वर्षाका कारण पानीको आपूर्ति बन्द भएमा पानीको वितरण हुने छैन ।
A34: 2 | B34: आफ्नो स्थान उल्लेख नभएकोमा नजिक स्थानलाई आधार मान्न हुन अनुरोध गरिन्छ ।

Sheet old line (Kiran)
A1: काठमाण्डौ उपत्यका खानेपानी लिमिटेड
A2: ललितपूर शाखा कार्यालय
A3: खूमलटार SRT बाट पुरानो लाईनमा खानेपानी वितरण हुने तालिका
A4: ='DMA 5 and 6'!A4 -> २०८३ कार्तिक महिना
A5: सि.नं. | B5: चाबी चालक | C5: सम्पर्क नं. | D5: समय | F5: पानी वितरण हुने क्षेत्रहरु | G5: गते
D6: खोल्ने समय | E6: बन्द गर्ने समय
A7: 1 | B7: चा.चा.टंक निरौला ओ.सि. धनन्जय कूमार हाथी (८”) | C7: 9849809155 9840572259 | D7: विहान ११:०० बजे | E7: दिउसो २:०० बजे | F7: चाँपागाँउ दोबाटो, टूटेपानी, ताल्छिखेल | G7: ४,११,१८,२५
B8: चा.चा. टंकनाथ निरौला | C8: 9849809155 | D8: बेलुका ६:बजे | E8: भोलिपल्ट विहान ५ बजे | F8: चाँपागाँउ दोबाटो, टूटेपानी, ताल्छिखेल | G8: ४, ८, १२, १६, २०, २४, २८ | H8: १,५,९,१३,१७,२१,२५,२९
A9: 2 | B9: चा.चा.किरण महर्जन (८”) | C9: 9841904106 | D9: विहान ६:०० बजे | E9: बेलुका ५:०० बजे आलोपालो मिलाएर १ घण्टा | F9: सातदोबाटो, खूमलहाईट, हात्तिवन, प्रिमियर स्कुल, बि.एण्ड.बि.बलेज,जय श्रीराम टोल, काली मार्ग, गैरी मार्ग, सिभिल होम्स | G9: १, ५, ९, १३, १७, २१, २५, २९
F10: बोधिग्राम, बोधिग्राम नयाँ लाईन, सुर्यविनायक
F11: शिवनगर
F12: अस्थानगर
F13: मनिप्लान्ट, ग्वार्को हात्तिबन मार्ग , सिटिस्केप
A14: 3 | B14: चा.चा.किरण महर्जन (८”) | C14: 9841904106 | D14: विहान ६:०० बजे | E14: बेलुका ६:०० बजे आलोपालो मिलाएर १ घण्टा | F14: भेल्पा दक्षिण | G14: २, ६, १०, १४, १८, २२, २६, ३० | H14: २,६,१०,१४,१८,२२,२६,३०
F15: भल्पा नयाँ लाईन उत्तर
F16: भेल्पा पूरानो लाइन, भेल्पा नयाँ लाईन पूर्व
F17: शसि दिदीको लाइन
F18: ग्वार्को बजार नयाँ लाइन
F19: सि.डि.ओ.लाईन
D20: दिउसो १२:३० बजे | E20: बेलुका ५ बजे | F20: बाफल सुर्यविनायक टंकी देखि वितरण हुने
A21: 3 | B21: चा.चा.किरण महर्जन (८”) | C21: 9841904106 | D21: विहान ६:०० बजे | E21: बेलुका ७:०० बजे आलोपालो मिलाएर १ घण्टा | F21: ग्वार्को, वाफल, KCM, महल ब्यान्क्वेट, पुरानो गुण हल लाईन, हरित कोलोनी ,पाको महादेव मार्ग, बालकुमारी, म्यखुमार्ग | G21: ३, ७, ११, १५, १९, २३, २७
H23: ४,८,१२,१६,२०,२४,२८
A25: पानी वितरण सँग सम्बन्धित अन्य गुनासोको लागि सम्पर्क व्यक्ति : ई. सुरज खनाल(९७६७२३७६३८), ओ.सी रोशन शर्मा (९८६४४३४९०३)

Sheet old line 3 bikram
A1: काठमाण्डौ उपत्यका खानेपानी लिमिटेड
A2: ललितपूर शाखा कार्यालय
A3: खूमलटार SRT बाट पुरानो लाईनमा खानेपानी वितरण हूने तालिका
A4: ='DMA 5 and 6'!A4 -> २०८३ कार्तिक महिना
A5: सि.नं. | B5: चाबी चालक | C5: समय | E5: पानी वितरण हूने क्षेत्रहरु | F5: गते
C6: खोल्ने समय | D6: बन्द गर्ने समय
A7: 1 | B7: चा.चा.राजेन्द्र श्रेष्ठ प.अ.मधुकर विष्ट सू.भा.महेन्द्र काजी महर्जन (१२”) | C7: विहान ६:०० बजे | D7: राती ८:०० बजे आलोपालो मिलाएर १ घण्टा | E7: सर्वाङ्ग हस्पिटल, सेतू देवल | F7: 5,9,13,17,21,25,29
E8: ढूकूटी चोक, ज्वागल, वाग्मती तर्फ
E9: पूरानो कर कार्यालय, म्याक्स मिडिया
E10: पाटनढोका बजार भित्र, अशोक हल तर्फ
E11: गणेश मंदिर, ललितपूर ईन्जिनियरिé कलेज
E12: गःछे ८” महापाल चोक सम्म
E13: गःछे २” रोड बहिर, नेपाल बैंक, सनराईज बैंक, गावाहाल
E14: तूम्वाहाल बाट भेलाछें, गावहाल चोक, कायाननी गल्ली
B15: चा.चा.टंक निरौला ओ.सि. धनन्जय कूमार हाथी (८”) | C15: विहान ११:०० बजे | D15: दिउसो २:०० बजे | E15: चाँपागाँउ दोबाटो, टूटेपानी, ताल्छिखेल | F15: ४,११,१८,२५
B16: चा.चा.रमेश अधिकारी सू.भा.महेन्द्र काजी महर्जन (१२”र२०”) | C16: दिउसो ३:०० बजे | D16: बेलुका ६:०० बजे | E16: नःटोल व्यापार पवर्धन जाने बाटो, नःटोल, त्रिपद्म वरपर | F16: ७,१४,२१,२८
C17: विहान 10:०० बजे | D17: दिउसो 1:०० बजे | E17: पूल्चोक कान्तिपुर FM Area | F17: ३,१०,१७,२४,३१
A18: 1 | B18: जीवन माझि ९८६१६६६८२९ बिक्रम राउत ९८५१३१२२४४ | C18: बिहान ६:३० | D18: बिहान ८:०० | E18: पार्टी कार्यालय | F18: ३,११,१९,२७
C19: =D18 -> बिहान ८:०० | D19: बिहान ९:३० | E19: वडा नं २ कार्यालय तल
C20: =D19 -> बिहान ९:३० | D20: बिहान ११:०० | E20: मगर गाउँ | G20: ३,७,११,१५,१९,२३,२७
C21: =D20 -> बिहान ११:०० | D21: दिउसो १२:३० | E21: मगर गाउँ गल्लि १
C22: =D21 -> दिउसो १२:३० | D22: दिउसो २:०० | E22: मगर गाउँ गल्लि २
C23: =D22 -> दिउसो २:०० | D23: दिउसो ३:३० | E23: कापी कारखाना (इन्द्रेणी हाइट)
C24: =D23 -> दिउसो ३:३० | D24: बेलुका ५:०० | E24: ढुंगा छापेको २
A25: 2 | C25: बिहान ६:३० | D25: बिहान ९:३० | E25: ठाडो लाइन (संहिटि, बस्नेत गाउँ, मल्पोखरी गेट) | F25: ७,१५,२३,31
C26: =D25 -> बिहान ९:३० | D26: बिहान ११:३० | E26: संगम बस्ति, गंगटे कुलो,
C27: =D26 -> बिहान ११:३० | D27: दिउसो १:०० | E27: नया बाटो (परिबोध लाइन)
C28: =D27 -> दिउसो १:०० | D28: दिउसो २:३० | E28: मन्दिर आगाडी, बाउचा लाइन
C29: =D28 -> दिउसो २:३० | D29: बेलुका ४:०० | E29: मन्दिर तल, मैया लाइन, ढुंगा छापेको १
C30: =D29 -> बेलुका ४:०० | D30: बेलुका ५:३० | E30: किरणको लाइन, भण्डारीको लाइन

Sheet old line (Kiran) फुल फ्लोव
A1: काठमाण्डौ उपत्यका खानेपानी लिमिटेड
A2: ललितपूर शाखा कार्यालय
A3: खूमलटार SRT बाट पुरानो लाईनमा खानेपानी वितरण हूने तालिका
A4: ='DMA 5 and 6'!A4 -> २०८३ कार्तिक महिना
A5: सि.नं. | B5: चाबी चालक | C5: सम्पर्क नं. | D5: समय | F5: पानी वितरण हूने क्षेत्रहरु | G5: गते
D6: खोल्ने समय | E6: बन्द गर्ने समय
A7: 1 | B7: चा.चा.टंक निरौला ओ.सि. धनन्जय कूमार हाथी (८”) | C7: 9849809155 9840572259 | D7: विहान ११:०० बजे | E7: दिउसो २:०० बजे | F7: चाँपागाँउ दोबाटो, टूटेपानी, ताल्छिखेल | G7: ४,११,१८,२५
B8: चा.चा. टंकनाथ निरौला | C8: 9849809155 | D8: बेलुका ६:०० बजे | E8: राती ११:०० बजे | F8: चाँपागाँउ दोबाटो, टूटेपानी, ताल्छिखेल | G8: ३,७,११,१५,१९,२३,२७ | H8: १,५,९,१३,१७,२१,२५,२९
A9: 2 | B9: चा.चा.किरण महर्जन (८”) | C9: 9841904106 | D9: विहान ५:०० बजे | E9: दिउसो २:०० बजे | F9: सातदोबाटो, खूमलहाईट, हात्तिवन, प्रिमियर स्कुल, बि.एण्ड.बि.बलेज,जय श्रीराम टोल, काली मार्ग, गैरी मार्ग, सिभिल होम्स | G9: ४,८,१२,१६,२०,२४,२८
D10: विहान ८:०० बजे | E10: विहान ९:०० बजे | F10: बोधिग्राम, बोधिग्राम नयाँ लाईन, सुर्यविनायक
D11: विहान ५:०० बजे | E11: राती ७:०० बजे आलोपालो मिलाएर १ घण्टा | F11: शिवनगर
F12: अस्थानगर
F13: मनिप्लान्ट, ग्वार्को हात्तिबन मार्ग , सिटिस्केप
B14: चा.चा.किरण महर्जन (८”) | C14: 9841904106 | D14: विहान ५:०० बजे | E14: बेलुका ६:०० बजे आलोपालो मिलाएर १ घण्टा | F14: भेल्पा दक्षिण | G14: ३,७,११,१५,१९,२३,२७ | H14: २,६,१०,१४,१८,२२,२६,३०
F15: भल्पा नयाँ लाईन उत्तर
F16: भेल्पा पूरानो लाइन, भेल्पा नयाँ लाईन पूर्व
F17: शसि दिदीको लाइन
F18: ग्वार्को बजार नयाँ लाइन
F19: सि.डि.ओ.लाईन
A20: 3 | B20: चा.चा.किरण महर्जन (८”) | C20: 9841904106 | D20: विहान ५:०० बजे | E20: बेलुकी ८:०० बजे आलोपालो मिलाएर १ घण्टा | F20: ग्वार्को, वाफल, KCM, महल ब्यान्क्वेट, पुरानो गुण हल लाईन, हरित कोलोनी ,पाको महादेव मार्ग, बालकुमारी, म्यखुमार्ग | G20: १,५,९,१३,१७,२१,२५,२९
H22: ४,८,१२,१६,२०,२४,२८

Sheet tanka full flow
A1: काठमाण्डौ उपत्यका खानेपानी लिमिटेड
A2: ललितपुर शाखा कार्यालय
A3: खूमलटार SRT बाट खानेपानी वितरण हूने तालिका
A4: ='DMA 5 and 6'!A4 -> २०८३ कार्तिक महिना
A5: सि.नं. | B5: चाबी चालक | C5: सम्पर्क नं. | D5: समय | F5: पानी वितरण हुने क्षेत्रहरु | G5: गते
D6: खोल्ने समय | E6: बन्द गर्ने समय
A7: 1 | B7: चा.चा. टंकनाथ निरौला | C7: 9849809155 | D7: बिहान ६ बजे | E7: बिहान 8 बजे | F7: कर्म मार्ग, पुरानो वडा कार्यालय | G7: ३,७,११,१५,१९,२३,२७
D8: =E7 -> बिहान 8 बजे | E8: बिहान 10 बजे | F8: मिलन टोल
D9: =E8 -> बिहान 10 बजे | E9: दिउसो 12 सम्म | F9: जेम्स स्कुल लाइन,
D10: =E9 -> दिउसो 12 सम्म | E10: दिउसो 2 देखि | F10: सिटि ड्राइभिंग(जागरण मार्ग),खुमल मार्ग
D11: बेलुका 5 बजे | E11: बेलुका 8 बजे | F11: जुगल लाइन,जेम्स अगाडि पुरानो लाइन | G11: ४,८,१२,१६,२०,२४,२८
D12: बेलुका 8 बजे | E12: राती १२:०० बजे | F12: उज्यालो टोल,महादेव खोला,अनन्त मार्ग, | G12: ४,८,१२,१६,२०,२४,२८
D13: बेलुका 5 बजे | E13: राती १२:०० बजे | F13: गैरीगाउँ, शान्तिनगर माइक्रोपार्क,जेम्स अगाडि नयाँ लाइन ,मिलनबस्ति | G13: १,५,९,१३,१७,२१,२५,२९
D14: बेलुका 5 बजे | E14: राती १२:०० बजे | F14: एरावत टोल;,संगम मार्ग ,अरुण टोल, पुरानो वडा कार्यालय, जागृति मार्ग, सिटि ड्राइभिंग सेन्टर सम्म | G14: २,६,१०,१४,१८,२२,२६,३०
D15: बेलुका 8 बजे | E15: राती १२:०० बजे | F15: समिति भवन, जनता ग्यारेज, ,संगम मार्ग , इसिमोड लाइन | G15: २,६,१०,१४,१८,२२,२६,३०
A17: द्रष्टव्य:
A18: 1 | B18: मेलम्चीबाट आउने पानीको मात्रामा कमी भएमा सोहीअनुसार माथि दिएको समय हेरफेर हुन सक्नेछ ।
A19: 2 | B19: ट्यांकमा पानी कम भएर वा विजुली नभएमा अर्को पालोमा मात्रै पानी वितरण हुनेछ ।

Sheet tanka
A1: काठमाण्डौ उपत्यका खानेपानी लिमिटेड
A2: ललितपुर शाखा कार्यालय
A3: खूमलटार SRT बाट खानेपानी वितरण हुने तालिका
A4: ='DMA 5 and 6'!A4 -> २०८३ कार्तिक महिना
A5: सि.नं. | B5: चाबी चालक | C5: सम्पर्क नं. | D5: समय | F5: पानी वितरण हुने क्षेत्रहरु | G5: गते
D6: खोल्ने समय | E6: बन्द गर्ने समय
A7: 1 | B7: चा.चा. टंकनाथ निरौला | C7: 9849809155 | D7: बिहान ६ बजे | E7: बिहान ८ बजे | F7: कर्म मार्ग, पुरानो वडा कार्यालय | G7: १, ५, ९, १३, १७, २१, २५, २९
D8: बिहान ८ बजे | E8: बिहान १० बजे | F8: मिलन टोल
D9: बिहान १० बजे | E9: दिउसो १२ | F9: जेम्स स्कुल लाइन
D10: बेलुका 5 बजे | E10: राती ०९:०० बजे | F10: सिटि ड्राइभिंग(जागरण मार्ग), खुमल मार्ग
D11: बेलुका 5 बजे | E11: राती ०९:०० बजे | F11: जुगल लाइन, जेम्स अगाडि पुरानो लाइन | G11: २, ६, १०, १४, १८, २२, २६, ३०
D12: बेलुका 5 बजे | E12: राती ०९:०० बजे | F12: उज्यालो टोल, महादेव खोला, अनन्त मार्ग,
D13: बेलुका 5 बजे | E13: राती ०९:०० बजे | F13: गैरीगाउँ, जेम्स अगाडि नयाँ लाइन, मिलनबस्ति, कर्म मार्ग, जेम्स स्कुल लाइन, | G13: ३, ७, ११, १५, १९, २३, २७
D14: बेलुका 5 बजे | E14: राती ०९:०० बजे | F14: एरावत टोल;,संगम मार्ग ,अरुण टोल, सिटि ड्राइभिंग सेन्टर, जागृति मार्ग सम्म | G14: ४, ८, १२, १६, २०, २४, २८
D15: बेलुका ८ बजे | E15: राती १२:०० बजे | F15: समिति भवन, जनता ग्यारेज, संगम मार्ग, मिलन टोल
A17: द्रष्टव्य:
A18: 1 | B18: मेलम्चीबाट आउने पानीको मात्रामा कमी भएमा सोहीअनुसार माथि दिएको समय हेरफेर हुन सक्नेछ ।
A19: 2 | B19: ट्यांकमा पानी कम भएर वा विजुली नभएमा अर्को पालोमा मात्रै पानी वितरण हुनेछ ।
A20: पानी वितरण सँग सम्बन्धित अन्य गुनासोको लागि सम्पर्क व्यक्ति : ई. सुरज खनाल(९७६७२३७६३८), ओ.सी रोशन शर्मा (९८६४४३४९०३)

Sheet २०८२ (Tanka 15)
A1: काठमाण्डौ उपत्यका खानेपानी लिमिटेड
A2: ललितपूर शाखा कार्यालय
A3: खूमलटार SRT बाट खानेपानी वितरण हुने तालिका
A4: ='DMA 5 and 6'!A4 -> २०८३ कार्तिक महिना
A6: सि.नं. | B6: चाबी चालक | C6: सम्पर्क नं. | D6: समय | F6: पानी वितरण हुने क्षेत्रहरु | G6: गते
D7: खोल्ने समय | E7: बन्द गर्ने समय
A8: 1 | B8: रमेश थापा बिनोद बस्नेत अच्युत बस्नेत | C8: 9841783108 ९८६९३६२४०२ ९८४९७०५२५६ | D8: बिहान ५ बजे | E8: बिहान १० बजे | F8: डाडा टोल, छिमेकी टोल,रामस्टोर, सम्पाङ् चोक (४") | G8: ३, ७, ११, १५, १९, २३, २७
D9: बिहान ५ बजे | E9: बिहान ७ बजे | F9: विशाल चोक, शिव चोक (८")
D10: =E9 -> बिहान ७ बजे | E10: बिहान १० बजे | F10: नखिपोट , कान्तिनगर (८")
D11: =E10 -> बिहान १० बजे | E11: दिउसो ३ बजे | F11: शान्तीनगर,बुद्ध मार्ग, गंगा जमुना चोक,फूलवारी मार्ग,राउत टोल (६")
D12: =E11 -> दिउसो ३ बजे | E12: बेलुकी ६ बजे | F12: सिभिल होम्स, धापाखेल
D13: बिहान ५ बजे | E13: बिहान १० बजे | F13: रमाईलो टार, लावती टोल, यलियन्स स्कुल वरपर,जननी मार्ग (८") | G13: १, ५, ९, १३, १७, २१, २५, २९
D14: =E13 -> बिहान १० बजे | E14: बिहान १२ बजे | F14: कन्चन मार्ग दक्षिण, श्रीकृष्ण टोल
D15: बिहान १० बजे | E15: दिउसो ३ बजे | F15: राम स्टोर, शान्ति चोक, लोहा चोक, सुम्निमा मार्ग, शिव चोक नया लाइन
D16: दिउसो ३ बजे | E16: बेलुकी ५ बजे | F16: महत टोल, खत्री गाउँ
A18: द्रष्टव्य:
A19: १. मेलम्चीबाट आउने पानीको मात्रामा कमी भएमा सोहीअनुसार माथि दिएको समय हेरफेर हुन सक्नेछ ।
A20: २. ट्यांकमा पानी कम भएर वा विजु‌ली नभएमा अर्को पालोमा मात्रै पानी वितरण हुनेछ ।
A21: पानी वितरण सँग सम्बन्धित अन्य गुनासोको लागि सम्पर्क व्यक्ति : ई. सुरज खनाल(९७६७२३७६३८), ओ.सी रोशन शर्मा (९८६४४३४९०३)

Sheet binod (23-24)
A1: काठमाण्डौ उपत्यका खानेपानी लिमिटेड
A2: ललितपुर शाखा कार्यालय
A3: चापागाउँबाट खानेपानी वितरण हुने तालिका
A4: ='DMA 5 and 6'!A4 -> २०८३ कार्तिक महिना
A5: सि.नं. | B5: चाबी चालक | C5: सम्पर्क नं. | D5: समय | E5: पानी वितरण हुने क्षेत्रहरु | F5: गते
A6: 1 | B6: बिनोद बस्नेत देवेन्द्र के.सी | C6: 9869362402 | D6: दिउसो ३:०० | E6: बाहुन टोल | F6: १, ७, १३, १९, २५
D7: साँझ ५:00 | E7: गा.वि.स. भवन (वडा-२४) | F7: =F6 -> १, ७, १३, १९, २५
D8: दिउसो ३:०० | E8: भीमसेन पिपलबोट, पशुपति टोल | F8: ३, ९, १५, २१, २७
D9: साँझ ५:00 | E9: भगवती टोल,नागदह गेट | F9: =F8 -> ३, ९, १५, २१, २७
D10: साँझ ५:00 | E10: सेतो गणेश | F10: ४, १०, १६, २२, २८,
D11: दिउसो ३:०० | E11: पिपल बोट | F11: =F10 -> ४, १०, १६, २२, २८,
D12: साँझ ५:00 | E12: टेवा | F12: =F11 -> ४, १०, १६, २२, २८,
D13: साँझ ५:00 | E13: ठुलो पधेरो,इनार चोक | F13: २, ८, १४, २०, २६
D14: साँझ ५:00 | E14: धापाहाइट | F14: ६, १२, १८, २४, ३०
B15: पानी वितरण सँग सम्बन्धित अन्य गुनासोको लागि सम्पर्क व्यक्ति : ई. सुरज खनाल(९७६७२३७६३८), ओ.सी रोशन शर्मा (९८६४४३४९०३)

Sheet Anish
A1: काठमाण्डौ उपत्यका खानेपानी लिमिटेड
A2: ललितपुर शाखा कार्यालय
A3: खुमलटार SRT बाट पुरानो लाईनमा खानेपानी वितरण हुने तालिका
A4: ='DMA 5 and 6'!A4 -> २०८३ कार्तिक महिना
A5: सि.नं. | B5: चाबी चालक | C5: समय | E5: पानी वितरण हुने क्षेत्रहरु | F5: गते
C6: खोल्ने समय | D6: बन्द गर्ने समय
A7: 1 | B7: चा.चा.राजेन्द्र श्रेष्ठ प.अ.मधुकर विष्ट सू.भा.महेन्द्र काजी महर्जन (१२”) | C7: विहान ६:०० बजे | D7: राती ८:०० बजे आलोपालो मिलाएर १ घण्टा | E7: सर्वाङ्ग हस्पिटल, सेतू देवल | F7: 5,9,13,17,21,25,29
E8: ढूकूटी चोक, ज्वागल, वाग्मती तर्फ
E9: पूरानो कर कार्यालय, म्याक्स मिडिया
E10: पाटनढोका बजार भित्र, अशोक हल तर्फ
E11: गणेश मंदिर, ललितपूर ईन्जिनियरिé कलेज
E12: गःछे ८” महापाल चोक सम्म
E13: गःछे २” रोड बहिर, नेपाल बैंक, सनराईज बैंक, गावाहाल
E14: तूम्वाहाल बाट भेलाछें, गावहाल चोक, कायाननी गल्ली
C15: विहान ११:०० बजे | D15: दिउसो २:०० बजे | E15: चाँपागाँउ दोबाटो, टूटेपानी, ताल्छिखेल | F15: ४,११,१८,२५
B16: चा.चा.रमेश अधिकारी सू.भा.महेन्द्र काजी महर्जन (१२”र२०”) | C16: दिउसो ३:०० बजे | D16: बेलुका ६:०० बजे | E16: नःटोल व्यापार पवर्धन जाने बाटो, नःटोल, त्रिपद्म वरपर | F16: ७,१४,२१,२८
C17: विहान 10:०० बजे | D17: दिउसो 1:०० बजे | E17: पूल्चोक कान्तिपुर FM Area | F17: ३,१०,१७,२४,३१
A18: 1 | B18: अनिश श्रेष्ठ ९८४३७६१११५ | C18: बिहान 5:00 | D18: बिहान 6:3० | E18: वडा नं १३ मार्ग, कुसुन्ती आदर्श मार्ग (१.५" लाइन र ३"), कुसुन्ती कुमारपिठ मार्ग(३") | F18: ४, ८, १२, १६, २०, २४, २८
C19: =D18 -> बिहान 6:3० | D19: बिहान ८:०० | E19: कुसुन्ती कुमारपिठ मार्ग(३" र २")
C20: बिहान ९:०० | D20: बिहान १०:3० | E20: कुसुन्ती मनकामना बोगटी मार्ग अगाडि(२")
C21: =D20 -> बिहान १०:3० | D21: दिउसो १२:०० | E21: कुसुन्ती मनकामना बोगटी मार्ग पछाडी(२")
C22: बिहान ९:०० | D22: बिहान १२:०० | E22: कुसुन्ती कुमार मन्दिर,डल्ले थकाली(२")
C23: बिहान 5:00 | D23: बिहान १०:०० | E23: गायेत्री पेट्रोल पम्प देखि नख्खु खोलासम्म(४")
C24: =D23 -> बिहान १०:०० | D24: दिउसो १२:०० | E24: कुसुन्ती आदर्श मार्ग पद्मा कोलोनी जाने बाटो(१.५")
C25: बिहान 5:00 | D25: बिहान १०:०० | E25: मिलिजुलि मार्ग(२")
A26: 1 | C26: बिहान 5:00 | D26: बिहान 6:3० | E26: कुसुन्ती हाइट मार्ग( वोर्ल्डलिंक अगाडी) (४" ), कुसुन्ती मजुवा मार्ग पश्चिम (३") ,रिंगरोड दक्षिण मार्ग (२")
C27: =D26 -> बिहान 6:3० | D27: बिहान ७:०० | E27: कुसुन्ती कल्धरा मार्ग(४")
C28: बिहान ७:३० | D28: बिहान ९:०० | E28: कुसुन्ती बोगटी मार्ग(३")
C29: =D28 -> बिहान ९:०० | D29: बिहान १०:3० | E29: कुसुन्ती हाईट आगाडी(३")
C30: बिहान ६:०० | D30: दिउसो १:०० | E30: कुसुन्ती हाईट तथा वरपर आलो पालो गरि
A31: पानी वितरण सँग सम्बन्धित अन्य गुनासोको लागि सम्पर्क व्यक्ति : ई. सुरज खनाल(९७६७२३७६३८), ओ.सी रोशन शर्मा (९८६४४३४९०३)

Sheet old line
A1: काठमाण्डौ उपत्यका खानेपानी लिमिटेड
A2: ललितपूर शाखा कार्यालय
A3: खूमलटार SRT बाट पुरानो लाईनमा खानेपानी वितरण हूने तालिका
A4: २०८२ अशोज महिना
A5: सि.नं. | B5: चाबी चालक | C5: सम्पर्क नं. | D5: समय | F5: पानी वितरण हूने क्षेत्रहरु | G5: गते
D6: खोल्ने समय | E6: बन्द गर्ने समय
A7: 1 | B7: चा.चा.राजेन्द्र श्रेष्ठ प.अ.मधुकर विष्ट सू.भा.महेन्द्र काजी महर्जन (१२”) | C7: 9860484972 9841983763 9841592400 | D7: विहान ६:०० बजे | E7: राती ८:०० बजे आलोपालो मिलाएर १ घण्टा | F7: सर्वाङ्ग हस्पिटल, सेतू देवल | G7: 5,9,13,17,21,25,29
F8: ढूकूटी चोक, ज्वागल, वाग्मती तर्फ
F9: पूरानो कर कार्यालय, म्याक्स मिडिया
F10: पाटनढोका बजार भित्र, अशोक हल तर्फ
F11: गणेश मंदिर, ललितपूर ईन्जिनियरिé कलेज
F12: गःछे ८” महापाल चोक सम्म
F13: गःछे २” रोड बहिर, नेपाल बैंक, सनराईज बैंक, गावाहाल
F14: तूम्वाहाल बाट भेलाछें, गावहाल चोक, कायाननी गल्ली
B15: चा.चा.बिनोद बस्नेत | C15: 9869362402 | D15: विहान ११:०० बजे | E15: दिउसो २:०० बजे | F15: चाँपागाँउ दोबाटो, टूटेपानी, ताल्छिखेल | G15: हरेक बुधबार
B16: चा.चा.रमेश अधिकारी (१२”र२०”) | C16: 9841619823 | D16: दिउसो ३:०० बजे | E16: बेलुका ६:०० बजे | F16: नःटोल व्यापार पवर्धन जाने बाटो, नःटोल, त्रिपद्म वरपर | G16: हरेक सनिबार
D17: विहान 10:०० बजे | E17: दिउसो 1:०० बजे | F17: पूल्चोक कान्तिपुर FM Area | G17: हरेक मंगलबार
B18: चा.चा.जीवन माझी चा.चा. विक्रम राउत (१२”र२०”) | C18: 9861666829 9851312244 | D18: विहान १०:०० बजे | E18: विहान ११:३० बजे | F18: कूपण्डोल, हनूमानस्थान, रुपक मेमोरियल, भजनमण्डल, प्रसाई घाट, अमरशिशू स्कुल | G18: हरेक सुक्रवार
D19: विहान ११:३० बजे | E19: विहान १:०० बजे | F19: बखूण्डोल, गणेशस्थान, कोरियन दूतावास, ब्रिटिस स्कूल, अरुण थापा चोक ।
D20: विहान १:०० बजे | E20: दिउसो २:३० बजे | F20: शूभतारा, कालिकास्थान
D21: दिउसो २:३० बजे | E21: दिउसो ४:०० बजे | F21: सानेपा चोक, रेडियण्ट स्कुल
D22: दिउसो ४:०० बजे | E22: दिउसो ५:३० बजे | F22: गूसिंङ्गाल, राम मंदिर, साँचल
D23: दिउसो ५:३० बजे | E23: राती ७:०० बजे | F23: ढोका टोल,क्याम्पेन कलेज वरपर, लिलाघर,कूमारीस्थान
A24: 4 | B24: चा.चा.अनिश श्रेष्ठ | C24: 9808825486 | D24: बिहान ६ बजे | E24: दिउसो २:०० बजे | F24: कुसुन्ती सबै लाईन (आलोपालो मिलाएर १ -१.५ घण्टा) | G24: =G16 -> हरेक सनिबार
A25: 5 | B25: चा.चा.दीपक मगर | C25: 9808762250 | D25: बिहान ६ बजे | E25: दिउसो २:०० बजे | F25: बागडोल सबै लाईन (आलोपालो मिलाएर १ -१.५ घण्टा)
A26: 6 | B26: चा.चा.सुदीप पुडासैनी | C26: 9849034297 | D26: बिहान ६ बजे | E26: दिउसो २:०० बजे | F26: मेडीसिटीदेखि भङ्ज़ाङ सम्मका सबै लाईन (आलोपालो मिलाएर १ -१.५ घण्टा)

Sheet old line (2)
A1: काठमाण्डौ उपत्यका खानेपानी लिमिटेड
A2: ललितपूर शाखा कार्यालय
A3: खूमलटार SRT बाट पुरानो लाईनमा खानेपानी वितरण हूने तालिका
A4: २०८२ असोज महिना
A5: सि.नं. | B5: चाबी चालक | C5: सम्पर्क नं. | D5: समय | F5: पानी वितरण हूने क्षेत्रहरु | G5: गते
D6: खोल्ने समय | E6: बन्द गर्ने समय
A7: 1 | B7: चा.चा.राजेन्द्र श्रेष्ठ प.अ.मधुकर विष्ट सू.भा.महेन्द्र काजी महर्जन (१२”) | C7: 9860484972 9841983763 9841592400 | D7: विहान ६:०० बजे | E7: राती ८:०० बजे आलोपालो मिलाएर १ घण्टा | F7: सर्वाङ्ग हस्पिटल, सेतू देवल | G7: 5,9,13,17,21,25,29
F8: ढूकूटी चोक, ज्वागल, वाग्मती तर्फ
F9: पूरानो कर कार्यालय, म्याक्स मिडिया
F10: पाटनढोका बजार भित्र, अशोक हल तर्फ
F11: गणेश मंदिर, ललितपूर ईन्जिनियरिé कलेज
F12: गःछे ८” महापाल चोक सम्म
F13: गःछे २” रोड बहिर, नेपाल बैंक, सनराईज बैंक, गावाहाल
F14: तूम्वाहाल बाट भेलाछें, गावहाल चोक, कायाननी गल्ली
B15: चा.चा.टंक निरौला ओ.सि. धनन्जय कूमार हाथी (८”) | C15: 9849809155 9840572259 | D15: विहान ११:०० बजे | E15: दिउसो २:०० बजे | F15: चाँपागाँउ दोबाटो, टूटेपानी, ताल्छिखेल | G15: ४,११,१८,२५
B16: चा.चा.रमेश अधिकारी सू.भा.महेन्द्र काजी महर्जन (१२”र२०”) | C16: 9841619823 9841592400 | D16: दिउसो ३:०० बजे | E16: बेलुका ६:०० बजे | F16: नःटोल व्यापार पवर्धन जाने बाटो, नःटोल, त्रिपद्म वरपर | G16: ७,१४,२१,२८
D17: विहान 10:०० बजे | E17: दिउसो 1:०० बजे | F17: पूल्चोक कान्तिपुर FM Area | G17: ३,१०,१७,२४,३१
B18: चा.चा.किरण महर्जन (८”) | C18: 9841904106 | D18: विहान ५:०० बजे | E18: दिउसो २:०० बजे | F18: सातदोबाटो, खूमलहाईट, हात्तिवन, प्रिमियर स्कुल, बि.एण्ड.बि.बलेज,जय श्रीराम टोल, काली मार्ग, गैरी मार्ग, सिभिल होम्स | G18: हरेक बिहिबार
D19: विहान ८:०० बजे | E19: विहान ९:०० बजे | F19: बोधिग्राम, बोधिग्राम नयाँ लाईन, सुर्यविनायक
D20: विहान ५:०० बजे | E20: राती ८:०० बजे | F20: भेल्पा दक्षिण
F21: भल्पा नयाँ लाईन उत्तर
F22: शिवनगर
F23: भेल्पा पूरानो लाइन,
F24: शसि दिदीको लाइन
F25: ग्वार्को बजार नयाँ लाइन
F26: सि.डि.ओ.लाईन
F27: अस्थानगर
A28: 3 | B28: चा.चा.किरण महर्जन (८”) | C28: 9841904106 | D28: विहान ५:०० बजे | E28: बेलुकी ५:३० बजे आलोपालो मिलाएर | F28: ग्वार्को, वाफल,महल ब्यान्क्वेट, पुरानो गुण हल लाईन, हरित कोलोनी ,पाको महादेव मार्ग,बालकुमारी,म्यखुमार्ग | G28: हरेक सुक्रवार

Sheet २०८२
A1: काठमाण्डौ उपत्यका खानेपानी लिमिटेड
A2: ललितपूर शाखा कार्यालय
A3: खूमलटार SRT बाट खानेपानी वितरण हूने तालिका
A4: असोज महिना
A6: सि.नं. | B6: चाबी चालक | C6: सम्पर्क नं. | D6: समय | F6: पानी वितरण हूने क्षेत्रहरु | G6: गते
D7: खोल्ने समय | E7: बन्द गर्ने समय
A8: 1 | B8: रमेश थापा विनोद बस्नेत ८" | C8: 9841783108 9869362402 | D8: बिहान ५:०० बजे | E8: बिहान १० बजे | F8: डाडा टोल, कान्तिनगर, विशाल चोक, छिमेकी टोल,सम्पाङ् चोक, नखिपोट, शिव चोक (४") | G8: ४,८,१२,१६,२०,२४,२८
D9: बिहान १० बजे | E9: दिउसो ३:०० बजे | F9: रामस्टोर, शान्ति चोक, लोहा चोक, सुनिता मार्ग, फूलवारी मार्ग, महत टोल | G9: २,६,१०,१४,१८,२२,२६,३०
D10: बिहान ५:०० बजे | E10: बिहान १० बजे | F10: रमाईलो तार, लावती टोल, यलियन्स स्कुल वरपर,जननी मार्ग | G10: २,६,१०,१४,१८,२२,२६,३०
D11: बिहान १० बजे | E11: दिउसो ३:०० बजे | F11: शान्तीनगर,बुद्ध मार्ग, गंगा जमुना चोक (६") | G11: ४,८,१२,१६,२०,२४,२८
A12: द्रष्टव्य:
A13: १. मेलम्चीबाट आउने पानीको मात्रामा कमी भएमा सोहीअनुसार माथि दिएको समय हेरफेर हुन सक्नेछ ।
A14: २. ट्यांकमा पानी कम भएर वा विजु‌ली नभएमा अर्को पालोमा मात्रै पानी वितरण हुनेछ ।

Sheet meter installation
C1: काठमाण्डौ उपत्यका खानेपानी लिमिटेड
C2: ललितपुर शाखा कार्यालय
C3: मेलम्चीको नया लाईनमा METER जडानको लागि सम्पर्क व्यक्ति
A5: सं.नं | B5: DMA | C5: DMA भित्र पर्ने स्थान हरु | D5: सम्पर्क व्यक्ति | E5: सम्पर्क नम्बर
A6: 1 | B6: 5.1 | C6: ग्वार्को देखि बालकुमारी, त्यागल, सिन्पा मार्ग, सरस्वती मार्ग, कसुम वरपर, गुइटा, क्वार्को, च्यासल मार्ग, चपट टोल | D6: =D11 -> नितेश यादव
A7: 2 | B7: 5.2 | C7: नाग बहाल,छाया बहाल,छा बहाल,गाबहाल,पाटन ढोका,पूल्चोक,चाकुपट,शंखमूल,मणि मार्ग,ज्वागल,दरवार टोल | D7: अमर चौधरी | E7: 9801808109
A8: 3 | B8: 6.1 | C8: सातदोबाटो, रिन्ङरोड भित्र, माटीमार्ग, नरविनायक मार्ग, ताल्छिखेल–,महालक्ष्मी मार्ग, लखनखेल अशोक स्तुपा एरिया, सिंचाहिटी, दिपावली मार्ग, थापा गल्ली, ज्याठा मार्ग, कूमा गल्ली, सुमन्गल गल्ली, ओकूवाहाल, कनिवहाल | D8: ईं सिकेन्द्र गोईत | E8: 9801233255
A9: 4 | B9: 6.2 | C9: थसीखेल मार्ग, दक्षिणकाली मार्ग, कुमारीमाटी, दामोदर मार्ग, नःटोल, पूर्णचण्डी मार्ग, मानभवनपाटन हस्पिटल, सि.डि.ओ. कार्यालय वरिपरी, | D9: ईं सिकेन्द्र गोईत | E9: 9801233255
A10: 5 | B10: 8.1 | C10: सदर चिडिया खाना, शान्ति चोक मार्ग, भानिमंडल मार्ग, एकान्त कुना मार्ग, होटेल शालिग्राम,दमकल चोक, कान्तिपुर यफ.एम. तल पुल्चोक, झम्सिखेल, चौधरी ग्रुप, ज्ञ्यानोदय पुस्तकालय, सम्पदा स्कुल ओरपर,बखुन्ढोलको मार्ग ,बखुन्ढोल बिगमार्ट ,कानदेवता स्थान, हनुमानथान निटिंगेल स्कुल,गुर्सिंगाल मार्ग ओरपर,डोकाडोल,बखुन्ढोलको तेर्सो लाईन हुदै सुमित होटेल, किरण भवन | D10: राम कुमार पाहरी | E10: ९८४१६६१८३६
A11: 6 | B11: 8.2 | C11: रेडियन्ट, त्रिवेणी, बागमती करिडोर लाइन, यल मार्ग, राजतीर्थ मार्ग, नबिल बैंक,साँचल, सगरमाथा, विजय बस्ती, हेरिटेज, सानेपा चोक, सिकाली मार्ग, बिजयनगर मार्ग,साँचल देखी गणेश मन्दिर, प्याराडाइज स्कुल ,कुन्तु हिटी मार्ग, यू-टर्न,मनमोहन प्रतिष्ठान मार्ग, नर्सिङ क्याम्पस गल्ली,कालिका मन्दिर मार्ग, एभरेष्ट कलेज ,ठाडो ढुंङ्गा, मनकामना मार्ग, नयाँ कोलोनी मार्ग , सर्भिस ट्र्याक, रुडेश्वर, एसम्पसन चर्च, झमसिखेल ,प्राईम कोलोनी | D11: नितेश यादव | E11: 9801915123

Sheet tanka 
A1: काठमाण्डौ उपत्यका खानेपानी लिमिटेड
A2: ललितपूर शाखा कार्यालय
A3: खूमलटार SRT बाट खानेपानी वितरण हूने तालिका
A4: जेष्ठ महिनाको तालिका
A5: सि.नं. | B5: चाबी चालक | C5: सम्पर्क नं. | D5: समय | F5: पानी वितरण हूने क्षेत्रहरु | G5: गते
D6: खोल्ने समय | E6: बन्द गर्ने समय
A7: 3 | B7: टंक निरौला (८”) | C7: 9849801155 | D7: विहान ६:०० बजे | E7: विहान १०:0० बजे | F7: रामस्टोर,शान्तीनगर, शान्ति चोक,लोहा चोक, छिमेकी टोल, सूनिता मार्ग, फूलवारी मार्ग, | G7: 2,5,8,11,14,17,20,23,26,29
D8: विहान ६:०० बजे | E8: विहान १०:0० बजे | F8: डाडा टोल, कान्तिनगर ,बिशाल चोक,सम्पाङचोक , नखिपोट, शिव चोक | G8: 3,6,9,12,15,18,21,24,27,30
D9: विहान ६:०० बजे | E9: विहान १०:0० बजे | F9: रमाईलोटार, लावती टोल, यलियन्स स्कुल वरपर, जननी मार्ग | G9: 1,4,7,10,13,16,19,22,25,28,31
A10: द्रष्टव्य:
A11: 1 | B11: मेलम्चीबाट आउने पानीको मात्रामा कमी भएमा सोहीअनुसार माथि दिएको समय हेरफेर हुन सक्नेछ ।
A12: 2 | B12: टाँकमा पानी काम भएर वा बत्ति नभएमा अर्को पालोमा मात्रै पानी वितरण हुनेछ ।

Sheet nabaraj
A1: काठमाण्डौ उपत्यका खानेपानी लिमिटेड
A2: ललितपूर शाखा कार्यालय
A3: खूमलटार SRT बाट खानेपानी वितरण हूने तालिका
A4: जेष्ठ महिनाको तालिका
A5: सि.नं. | B5: चाबी चालक | C5: सम्पर्क नं. | D5: समय | F5: पानी वितरण हूने क्षेत्रहरु | G5: गते
D6: खोल्ने समय | E6: बन्द गर्ने समय
A7: 1 | B7: नवराज महर्जन सुर्य बस्नेत | C7: ९८६०९९२१२१ 9861799323 | D7: विहान 10:०० बजे | E7: विहान 12:०० बजे | F7: बाङ्गे धारा भर्ने | G7: 3,7,11,15,19,23,27,31
D8: विहान 12:०० बजे | E8: दिउसो 3:०० बजे | F8: चिबाहाल (नयाँ चाबी)
D9: दिउसो 3:०० बजे | E9: बेलूका 5:०० बजे | F9: चिबाहाल (पुरानो चाबी)
D10: विहान 10:०० बजे | E10: विहान 12:०० बजे | F10: बाङ्गे धारा भर्ने | G10: ४,८,१२,१६,२०,२४,२८
D11: विहान 12:०० बजे | E11: दिउसो 3:०० बजे | F11: सीमाको
D12: दिउसो 3:०० बजे | E12: बेलूका 5:०० बजे | F12: अरे नयाँ
D13: विहान 10:०० बजे | E13: विहान 12:०० बजे | F13: बालकुमारी नयाँ | G13: 5,13,21,29
D14: दिउसो 12:०० बजे | E14: बेलूका 5:०० बजे | F14: अरे पुरानो
D15: दिउसो 3:०० बजे | E15: बेलूका 5:०० बजे | F15: बालकुमारी नयाँ | G15: 9,17,25
D16: विहान 10:०० बजे | E16: दिउसो 3:०० बजे | F16: अरे पुरानो
A18: द्रष्टव्य:
A19: 1 | B19: मेलम्चीबाट आउने पानीको मात्रामा कमी भएमा सोहीअनुसार माथि दिएको समयभन्दा हेरफेर हुन सक्नेछ
A20: 2 | B20: टाँकमा पानी काम भएरमा अर्को पालोमा मात्रै पानी वितरण हुनेछ

Sheet jiban
A1: काठमाण्डौ उपत्यका खानेपानी लिमिटेड
A2: ललितपूर शाखा कार्यालय
A3: खूमलटार SRT बाट खानेपानी वितरण हूने तालिका
A4: २०८१/०8/03 गते देखि लागू हूने
A5: सि.नं. | B5: चाबी चालक | C5: सम्पर्क नं. | D5: समय | F5: पानी वितरण हूने क्षेत्रहरु | G5: गते
D6: खोल्ने समय | E6: बन्द गर्ने समय
A7: 3 | B7: चा.चा.जीवन माझी (१२”र२०”) | C7: 9861666829 | D7: विहान 7:०० बजे | E7: विहान 8:३० बजे | F7: अरुणथापा चोक
D8: विहान 8:३० बजे | E8: विहान 10:०० बजे | F8: ज्ञानोदय पुस्तकालय
D9: विहान 10:०० बजे | E9: विहान १1:३० बजे | F9: टिका स्कुल ,किरण भवन
D10: विहान १1:३० बजे | E10: दिउसो १:0० बजे | F10: हासपास मन्दिर पछाडि
D11: विहान 8:३० बजे | E11: विहान 10:०० बजे | F11: मनकामना मन्दिर माथि
D12: विहान 10:०० बजे | E12: विहान ११:3० बजे | F12: मनकामना मन्दिर तल
D13: विहान ११:3० बजे | E13: दिउसो 1:०० बजे | F13: पैयाँ पानी
D14: दिउसो 1:०० बजे | E14: दिउसो २:3० बजे | F14: केसीको लाईन
D15: बेलूका ५:३० बजे | E15: बेलूका 7:0० बजे | F15: भनिमण्डल,धोवीघाट डिलको लाईन
A16: द्रष्टव्य:
A17: 1 | B17: मेलम्चीबाट आउने पानीको मात्रामा कमी भएमा सोहीअनुसार माथि दिएको समयभन्दा हेरफेर हुन सक्नेछ
A18: 2 | B18: टाँकमा पानी काम भएरमा अर्को पालोमा मात्रै पानी वितरण हुनेछ
